BEGIN:VCALENDAR
VERSION:2.0
PRODID:-//HSG D/S 1848 - ECPv6.15.20//NONSGML v1.0//EN
CALSCALE:GREGORIAN
METHOD:PUBLISH
X-ORIGINAL-URL:https://hsg-1848.de
X-WR-CALDESC:Veranstaltungen für HSG D/S 1848
REFRESH-INTERVAL;VALUE=DURATION:PT1H
X-Robots-Tag:noindex
X-PUBLISHED-TTL:PT1H
BEGIN:VTIMEZONE
TZID:Europe/Berlin
BEGIN:DAYLIGHT
TZOFFSETFROM:+0100
TZOFFSETTO:+0200
TZNAME:CEST
DTSTART:20230326T010000
END:DAYLIGHT
BEGIN:STANDARD
TZOFFSETFROM:+0200
TZOFFSETTO:+0100
TZNAME:CET
DTSTART:20231029T010000
END:STANDARD
BEGIN:DAYLIGHT
TZOFFSETFROM:+0100
TZOFFSETTO:+0200
TZNAME:CEST
DTSTART:20240331T010000
END:DAYLIGHT
BEGIN:STANDARD
TZOFFSETFROM:+0200
TZOFFSETTO:+0100
TZNAME:CET
DTSTART:20241027T010000
END:STANDARD
BEGIN:DAYLIGHT
TZOFFSETFROM:+0100
TZOFFSETTO:+0200
TZNAME:CEST
DTSTART:20250330T010000
END:DAYLIGHT
BEGIN:STANDARD
TZOFFSETFROM:+0200
TZOFFSETTO:+0100
TZNAME:CET
DTSTART:20251026T010000
END:STANDARD
BEGIN:DAYLIGHT
TZOFFSETFROM:+0100
TZOFFSETTO:+0200
TZNAME:CEST
DTSTART:20260329T010000
END:DAYLIGHT
BEGIN:STANDARD
TZOFFSETFROM:+0200
TZOFFSETTO:+0100
TZNAME:CET
DTSTART:20261025T010000
END:STANDARD
BEGIN:DAYLIGHT
TZOFFSETFROM:+0100
TZOFFSETTO:+0200
TZNAME:CEST
DTSTART:20270328T010000
END:DAYLIGHT
BEGIN:STANDARD
TZOFFSETFROM:+0200
TZOFFSETTO:+0100
TZNAME:CET
DTSTART:20271031T010000
END:STANDARD
END:VTIMEZONE
BEGIN:VEVENT
DTSTART;VALUE=DATE:20260407
DTEND;VALUE=DATE:20260411
DTSTAMP:20260421T172210
CREATED:20260126T075053Z
LAST-MODIFIED:20260126T075053Z
UID:16035-1775520000-1775865599@hsg-1848.de
SUMMARY:HSG 1848 | Handballcamp (Osterferien 2026)
DESCRIPTION:Zeitraum: Di. 07.04.2026 – Fr. 10.04.2026 \nOrt: Sporthalle Schelmengraben \nBitte beachten Sie die Uhrzeiten an den jeweiligen Tagen. \nDienstag\, 07.04.2026 \n10:00 – 12:00 Uhr Gruppentraining \n12:00 – 14:00 Uhr Mittagspause \n14:00 – 16:00 Uhr Gruppentraining \nMittwoch\, 08.04.2026 \n10:00 – 16:00 Uhr Camp-Turnier \nDonnerstag\, 09.04.2026 \n10:00 – 16:00 Uhr Freizeit / Spiele \nFreitag\, 10.04.2026 \n10:00 – 14:00 Uhr Handball-Siebenkampf \n(inkl. Radar – Wurfgeschwindigkeitsmessung) \nGroße Siegerehrung + Preisverleihung \n(1.-3. Preise von SPORT BONEWITZ) \n14:00 Uhr Ende \n„ALL INCLUSIVE“ \n(Training\, Essen\, Getränke\, Snacks\, Freizeit\, Betreuung…) \nBitte einen eigenen Handball mitbringen. \nPreis: 90\,00 EURO\n(Geschwisterkinder 80 €) \nDie Anmeldung ist verbindlich ! \nWICHTIG ! \nDieses Camp ist ein „Elektronik“ freies Camp. Wir bitten die Handys\, Switch\, Tablets\, etc. nicht mitzubringen. Sollte ein Kind das Handy mitnehmen müssen\, bitten wir dieses NICHT im Training oder den Pausen zu benutzen. Für die Pausen dürfen gerne nicht elektronische Gesellschaftsspiele mitgebracht werden. \nVon Minis-B-Jugend. Der Eingang der Anmeldungen entscheidet über die Teilnahme. Ihr erhaltet dann eine Teilnahmebestätigung. Die Anmeldung ist verbindlich. Die Camp-Teilnehmer sind über ihre Erziehungsberechtigten unfall- und haftpflichtversichert. \nEine Buchung ist nur möglch\, wenn Fotoaufnahmen zugestimmt werden. Leider ist dies aus organisatorischen Gründen nicht anders möglich. \n(Änderungen vorbehalten !)
URL:https://hsg-1848.de/event/hsg-1848-handballcamp-osterferien-2026/
LOCATION:Sporthalle Schelmengraben\, Dotzheim\, Lassalleplatz\, Wiesbaden\, Hessen\, 65201\, Deutschland
ATTACH;FMTTYPE=image/png:https://hsg-1848.de/wp-content/uploads/2023/05/Symbolbild-Handballcamp.png
END:VEVENT
BEGIN:VEVENT
DTSTART;TZID=Europe/Berlin:20260327T193000
DTEND;TZID=Europe/Berlin:20260327T193000
DTSTAMP:20260421T172210
CREATED:20251008T071244Z
LAST-MODIFIED:20251027T080429Z
UID:15808-1774639800-1774639800@hsg-1848.de
SUMMARY:TG Schierstein | Jahreshauptversammlung (Gesamtverein)
DESCRIPTION:Nur für Mitglieder der TG Schierstein.\n \n 
URL:https://hsg-1848.de/event/tg-schierstein-jahreshauptversammlung-gesamtverein-3/
LOCATION:Georg-Lang-Halle\, Schierstein\, Möwenstraße 25\, Wiesbaden\, Hessen\, 65201\, Deutschland
ATTACH;FMTTYPE=image/jpeg:https://hsg-1848.de/wp-content/uploads/2024/01/Banner-Icon-VEREIN.jpg
END:VEVENT
BEGIN:VEVENT
DTSTART;TZID=Europe/Berlin:20260218T190000
DTEND;TZID=Europe/Berlin:20260218T190000
DTSTAMP:20260421T172210
CREATED:20260122T133320Z
LAST-MODIFIED:20260122T133548Z
UID:16011-1771441200-1771441200@hsg-1848.de
SUMMARY:HSG | Jahreshauptversammlung 2026
DESCRIPTION: 
URL:https://hsg-1848.de/event/hsg-jahreshauptversammlung-2026/
LOCATION:Sporthalle Schelmengraben\, Dotzheim\, Lassalleplatz\, Wiesbaden\, Hessen\, 65201\, Deutschland
ATTACH;FMTTYPE=image/png:https://hsg-1848.de/wp-content/uploads/2023/08/cropped-HSG-DS-1848_Signet-blau-hellblau_2c.png
END:VEVENT
BEGIN:VEVENT
DTSTART;TZID=Europe/Berlin:20260214T201100
DTEND;TZID=Europe/Berlin:20260214T201100
DTSTAMP:20260421T172210
CREATED:20251008T075912Z
LAST-MODIFIED:20251027T074945Z
UID:15823-1771099860-1771099860@hsg-1848.de
SUMMARY:TG Schierstein | TG-Night Fever (Fastnachtsdisco)
DESCRIPTION:Karten nur an der Abendkasse erhältich  !\n\nKEIN VORVERKAUF
URL:https://hsg-1848.de/event/tg-schierstein-tg-night-fever-fastnachtsdisco/
LOCATION:Georg-Lang-Halle\, Schierstein\, Möwenstraße 25\, Wiesbaden\, Hessen\, 65201\, Deutschland
ATTACH;FMTTYPE=image/png:https://hsg-1848.de/wp-content/uploads/2023/05/party-g4729e3423_1280.png
END:VEVENT
BEGIN:VEVENT
DTSTART;TZID=Europe/Berlin:20260131T191100
DTEND;TZID=Europe/Berlin:20260131T191100
DTSTAMP:20260421T172210
CREATED:20251008T072431Z
LAST-MODIFIED:20251027T075035Z
UID:15820-1769886660-1769886660@hsg-1848.de
SUMMARY:TG Schierstein | 2.Kappensitzung (Fastnacht)
DESCRIPTION:
URL:https://hsg-1848.de/event/tg-schierstein-2-kappensitzung-fastnacht/
LOCATION:Georg-Lang-Halle\, Schierstein\, Möwenstraße 25\, Wiesbaden\, Hessen\, 65201\, Deutschland
ATTACH;FMTTYPE=image/png:https://hsg-1848.de/wp-content/uploads/2024/02/TG-Logo-Fastnacht.png
END:VEVENT
BEGIN:VEVENT
DTSTART;TZID=Europe/Berlin:20260124T191100
DTEND;TZID=Europe/Berlin:20260124T191100
DTSTAMP:20260421T172210
CREATED:20251008T072154Z
LAST-MODIFIED:20251027T075027Z
UID:15815-1769281860-1769281860@hsg-1848.de
SUMMARY:TG Schierstein | 1.Kappensitzung (Fastnacht)
DESCRIPTION:
URL:https://hsg-1848.de/event/tg-schierstein-1-kappensitzung-fastnacht/
LOCATION:Georg-Lang-Halle\, Schierstein\, Möwenstraße 25\, Wiesbaden\, Hessen\, 65201\, Deutschland
ATTACH;FMTTYPE=image/png:https://hsg-1848.de/wp-content/uploads/2024/02/TG-Logo-Fastnacht.png
END:VEVENT
BEGIN:VEVENT
DTSTART;TZID=Europe/Berlin:20260121T170000
DTEND;TZID=Europe/Berlin:20260121T170000
DTSTAMP:20260421T172210
CREATED:20260102T075008Z
LAST-MODIFIED:20260102T075008Z
UID:15982-1769014800-1769014800@hsg-1848.de
SUMMARY:TG Schierstein | 2. Ausgabe Eintrittskarten (Kappensitzungen)
DESCRIPTION:Die bestellten Eintrittskarten für die Kappensitzungen können wie folgt in der Georg-Lang-Halle abgeholt werden: \nMontag\, den 12.01.2026\, ab 17 Uhr \noder \nMittwoch\, den 21.01.2026\, ab 17 Uhr\n(an der Generalprobe)
URL:https://hsg-1848.de/event/tg-schierstein-2-ausgabe-eintrittskarten-kappensitzungen/
LOCATION:Georg-Lang-Halle\, Schierstein\, Möwenstraße 25\, Wiesbaden\, Hessen\, 65201\, Deutschland
ATTACH;FMTTYPE=image/jpeg:https://hsg-1848.de/wp-content/uploads/2026/01/Symbolbild_Tickets.jpg
END:VEVENT
BEGIN:VEVENT
DTSTART;TZID=Europe/Berlin:20260112T170000
DTEND;TZID=Europe/Berlin:20260112T170000
DTSTAMP:20260421T172210
CREATED:20260102T074927Z
LAST-MODIFIED:20260102T074927Z
UID:15978-1768237200-1768237200@hsg-1848.de
SUMMARY:TG Schierstein | 1. Ausgabe Eintrittskarten (Kappensitzungen)
DESCRIPTION:Die bestellten Eintrittskarten für die Kappensitzungen können wie folgt in der Georg-Lang-Halle abgeholt werden: \nMontag\, den 12.01.2026\, ab 17 Uhr \noder \nMittwoch\, den 21.01.2026\, ab 17 Uhr\n(an der Generalprobe)
URL:https://hsg-1848.de/event/tg-schierstein-1-ausgabe-eintrittskarten-kappensitzungen/
LOCATION:Georg-Lang-Halle\, Schierstein\, Möwenstraße 25\, Wiesbaden\, Hessen\, 65201\, Deutschland
ATTACH;FMTTYPE=image/jpeg:https://hsg-1848.de/wp-content/uploads/2026/01/Symbolbild_Tickets.jpg
END:VEVENT
BEGIN:VEVENT
DTSTART;VALUE=DATE:20260105
DTEND;VALUE=DATE:20260110
DTSTAMP:20260421T172210
CREATED:20251101T105735Z
LAST-MODIFIED:20251101T105843Z
UID:15871-1767571200-1768003199@hsg-1848.de
SUMMARY:HSG 1848 | Handballcamp (Weihnachtsferien 2025/2026)
DESCRIPTION:Zeitraum: Mo. 05.01.2026 – Fr. 09.01.2026 \nOrt: Sporthalle Schelmengraben \nBitte beachten Sie die Uhrzeiten an den jeweiligen Tagen. \nMontag\, 05.01.2026 \n10:00 – 12:00 Uhr Gruppentraining \n12:00 – 14:00 Uhr Mittagspause \n14:00 – 16:00 Uhr Gruppentraining \nDienstag\, 06.01.2026 \n10:00 – 12:00 Uhr Gruppentraining \n12:00 – 14:00 Uhr Mittagspause \n14:00 – 16:00 Uhr Gruppentraining \nMittwoch\, 07.01.2026 \n10:00 – 16:00 Uhr Camp-Turnier \nDonnerstag\, 08.01.2026 \n10:00 – 16:00 Uhr Freizeit / Spiele \nFreitag\, 09.01.2026 \n10:00 – 14:00 Uhr Handball-Siebenkampf \n(inkl. Radar – Wurfgeschwindigkeitsmessung) \nGroße Siegerehrung + Preisverleihung \n(1.-3. Preise von SPORT BONEWITZ) \n14:00 Uhr Ende \n„ALL INCLUSIVE“ \n(Training\, Essen\, Getränke\, Snacks\, Freizeit\, Betreuung…) \nBitte einen eigenen Handball mitbringen. \nPreis: 105\,00 EURO \n(Geschwisterkinder 90 €) \nDie Anmeldung ist verbindlich ! \nWICHTIG ! \nDieses Camp ist ein „Elektronik“ freies Camp. Wir bitten die Handys\, Switch\, Tablets\, etc. nicht mitzubringen. Sollte ein Kind das Handy mitnehmen müssen\, bitten wir dieses NICHT im Training oder den Pausen zu benutzen. Für die Pausen dürfen gerne nicht elektronische Gesellschaftsspiele mitgebracht werden. \nVon Minis-B-Jugend. Der Eingang der Anmeldungen entscheidet über die Teilnahme. Ihr erhaltet dann eine Teilnahmebestätigung. Die Anmeldung ist verbindlich. Die Camp-Teilnehmer sind über ihre Erziehungsberechtigten unfall- und haftpflichtversichert. \nEine Buchung ist nur möglch\, wenn Fotoaufnahmen zugestimmt werden. Leider ist dies aus organisatorischen Gründen nicht anders möglich. \n(Änderungen vorbehalten !)
URL:https://hsg-1848.de/event/hsg-1848-handballferiencamp-weihnachtsferien-2025-2026/
LOCATION:Sporthalle Schelmengraben\, Dotzheim\, Lassalleplatz\, Wiesbaden\, Hessen\, 65201\, Deutschland
ATTACH;FMTTYPE=image/png:https://hsg-1848.de/wp-content/uploads/2023/05/Symbolbild-Handballcamp.png
END:VEVENT
BEGIN:VEVENT
DTSTART;TZID=Europe/Berlin:20251115T190000
DTEND;TZID=Europe/Berlin:20251115T190000
DTSTAMP:20260421T172210
CREATED:20251008T184715Z
LAST-MODIFIED:20251016T112717Z
UID:15830-1763233200-1763233200@hsg-1848.de
SUMMARY:TG Schierstein | Jahresabschlussfeier (Gesamtverein)
DESCRIPTION: 
URL:https://hsg-1848.de/event/tg-schierstein-jahresabschlussfeier-gesamtverein-2/
LOCATION:Georg-Lang-Halle\, Schierstein\, Möwenstraße 25\, Wiesbaden\, Hessen\, 65201\, Deutschland
ATTACH;FMTTYPE=image/jpeg:https://hsg-1848.de/wp-content/uploads/2024/01/Banner-Icon-VEREIN.jpg
END:VEVENT
BEGIN:VEVENT
DTSTART;TZID=Europe/Berlin:20251101T160000
DTEND;TZID=Europe/Berlin:20251101T220000
DTSTAMP:20260421T172210
CREATED:20251008T184036Z
LAST-MODIFIED:20251008T184036Z
UID:15826-1762012800-1762034400@hsg-1848.de
SUMMARY:TG Schierstein | Halloween
DESCRIPTION:Nur für Mitglieder der TG Schierstein.\n>> Anmeldung <<
URL:https://hsg-1848.de/event/tg-schierstein-halloween-2/
LOCATION:Georg-Lang-Halle\, Schierstein\, Möwenstraße 25\, Wiesbaden\, Hessen\, 65201\, Deutschland
ATTACH;FMTTYPE=image/jpeg:https://hsg-1848.de/wp-content/uploads/2024/02/Symbolbild-Halloween.jpg
END:VEVENT
BEGIN:VEVENT
DTSTART;VALUE=DATE:20251013
DTEND;VALUE=DATE:20251018
DTSTAMP:20260421T172210
CREATED:20251008T070708Z
LAST-MODIFIED:20251008T071748Z
UID:15804-1760313600-1760745599@hsg-1848.de
SUMMARY:HSG 1848 | Handballferiencamp (Herbstferien)
DESCRIPTION:
URL:https://hsg-1848.de/event/hsg-1848-handballferiencamp-herbstferien-3/
LOCATION:Sporthalle Schelmengraben\, Dotzheim\, Lassalleplatz\, Wiesbaden\, Hessen\, 65201\, Deutschland
ATTACH;FMTTYPE=image/png:https://hsg-1848.de/wp-content/uploads/2023/05/Symbolbild-Handballcamp.png
END:VEVENT
BEGIN:VEVENT
DTSTART;VALUE=DATE:20250918
DTEND;VALUE=DATE:20250922
DTSTAMP:20260421T172210
CREATED:20250317T121909Z
LAST-MODIFIED:20250317T121945Z
UID:14955-1758153600-1758499199@hsg-1848.de
SUMMARY:INFO | Schiersteiner Kerb
DESCRIPTION:Zur Info\, ein Besuch lohnt sich.
URL:https://hsg-1848.de/event/hsg-1848-schiersteiner-kerb/
LOCATION:Hans-Römer-Platz\, Schierstein\, Hans-Römer-Platz\, Wiesbaden\, Hessen\, 65201\, Deutschland
ATTACH;FMTTYPE=image/png:https://hsg-1848.de/wp-content/uploads/2024/04/HSG-DS-1848_Wort-Bildmarke_2c.png
END:VEVENT
BEGIN:VEVENT
DTSTART;VALUE=DATE:20250822
DTEND;VALUE=DATE:20250825
DTSTAMP:20260421T172210
CREATED:20250317T120709Z
LAST-MODIFIED:20250317T121327Z
UID:14934-1755820800-1756079999@hsg-1848.de
SUMMARY:HSG 1848 | Handballer im Weinstand Dotzheim
DESCRIPTION:
URL:https://hsg-1848.de/event/handballer-im-weinstand-dotzheim-3/
LOCATION:Pfarrer-Luja-Platz\, Dotzheim\, Römergasse\, Wiesbaden\, Hessen\, 65199
ATTACH;FMTTYPE=image/jpeg:https://hsg-1848.de/wp-content/uploads/2023/05/Weinstand.jpg
END:VEVENT
BEGIN:VEVENT
DTSTART;VALUE=DATE:20250811
DTEND;VALUE=DATE:20250816
DTSTAMP:20260421T172210
CREATED:20250603T133657Z
LAST-MODIFIED:20250603T133657Z
UID:15214-1754870400-1755302399@hsg-1848.de
SUMMARY:HSG 1848 | Handballferiencamp (Sommerferien)
DESCRIPTION:
URL:https://hsg-1848.de/event/hsg-1848-handballferiencamp-sommerferien-2/
LOCATION:Sporthalle Schelmengraben\, Dotzheim\, Lassalleplatz\, Wiesbaden\, Hessen\, 65201\, Deutschland
ATTACH;FMTTYPE=image/png:https://hsg-1848.de/wp-content/uploads/2023/05/Symbolbild-Handballcamp.png
END:VEVENT
BEGIN:VEVENT
DTSTART;VALUE=DATE:20250801
DTEND;VALUE=DATE:20250804
DTSTAMP:20260421T172210
CREATED:20250317T121545Z
LAST-MODIFIED:20250317T122640Z
UID:14952-1754006400-1754265599@hsg-1848.de
SUMMARY:INFO | Dotzheimer Kerb
DESCRIPTION:Zur Info\, ein Besuch lohnt sich.
URL:https://hsg-1848.de/event/hsg-1848-dotzheimer-kerb/
LOCATION:Pfarrer-Luja-Platz\, Dotzheim\, Römergasse\, Wiesbaden\, Hessen\, 65199
ATTACH;FMTTYPE=image/png:https://hsg-1848.de/wp-content/uploads/2024/04/HSG-DS-1848_Wort-Bildmarke_2c.png
END:VEVENT
BEGIN:VEVENT
DTSTART;VALUE=DATE:20250724
DTEND;VALUE=DATE:20250728
DTSTAMP:20260421T172210
CREATED:20250317T121117Z
LAST-MODIFIED:20250317T121321Z
UID:14943-1753315200-1753660799@hsg-1848.de
SUMMARY:HSG 1848 | Handballer im Weinstand Schierstein
DESCRIPTION:Unsere Handballer schenken wieder für Sie im Weinstand aus.\nWeingut: Ute Meilinger
URL:https://hsg-1848.de/event/handballer-im-weinstand-schierstein-2/
LOCATION:Weinstand Schierstein\, Hans-Römer-Platz\, Wiesbaden\, Hessen\, 65201\, Deutschland
ATTACH;FMTTYPE=image/jpeg:https://hsg-1848.de/wp-content/uploads/2023/05/Weinstand.jpg
END:VEVENT
BEGIN:VEVENT
DTSTART;VALUE=DATE:20250711
DTEND;VALUE=DATE:20250715
DTSTAMP:20260421T172210
CREATED:20250317T120138Z
LAST-MODIFIED:20250317T121313Z
UID:14931-1752192000-1752537599@hsg-1848.de
SUMMARY:HSG 1848 | 77. Schiersteiner Hafenfest
DESCRIPTION:Bewirtung des HSG Getränkestandes durch die Handballer. \nJeden Tag mit Live-Musik. \nEin Besuch lohnt sich.
URL:https://hsg-1848.de/event/77-schiersteiner-hafenfest/
LOCATION:Schiersteiner Hafen\, Hafenstraße\, Wiesbaden\, Hessen\, 65201
ATTACH;FMTTYPE=image/jpeg:https://hsg-1848.de/wp-content/uploads/2023/05/Handballer-Hafenfest.jpg
END:VEVENT
BEGIN:VEVENT
DTSTART;VALUE=DATE:20250414
DTEND;VALUE=DATE:20250418
DTSTAMP:20260421T172210
CREATED:20250127T203954Z
LAST-MODIFIED:20250128T074655Z
UID:14663-1744588800-1744934399@hsg-1848.de
SUMMARY:HSG 1848 | Handballferiencamp (Osterferien)
DESCRIPTION:Zeitraum: Mo. 14.04.2025 – Do. 17.04.2025 \nOrt: Sporthalle Schelmengraben \nMontag\, 14.04.2025 \n10:00 – 12:00 Uhr Gruppentraining\n12:00 – 14:00 Uhr Mittagspause\n14:00 – 16:00 Uhr Gruppentraining \nDienstag\, 15.04.2025 \n10:00 – 12:00 Uhr Gruppentraining\n12:00 – 14:00 Uhr Mittagspause\n14:00 – 16:00 Uhr Videoanalyse individuell \nMittwoch\, 16.04.2025 \n10:00 – 16:00 Uhr Camp-Turnier \nDonnerstag\, 17.04.2025 \n10:00 – 14:00 Uhr Handball-Siebenkampf\n(inkl. Radar – Wurfgeschwindigkeitsmessung)\nGroße Siegerehrung + Preisverleihung\n(1.-3. Preis von SPORT BONEWITZ) \n14:00 Uhr Ende \n„ALL INCLUSIVE“\n(Training\, Essen\, Getränke\, Snacks\, Betreuung…) \nBitte einen eigenen Handball mitbringen. \nPreis: 90\,00 EURO\n(Geschwister 80\,00 €)\n \nDie Anmeldung ist verbindlich ! \nWICHTIG ! \nDieses Camp ist ein „Elektronik“ freies Camp. Wir bitten die Handys\, Switch\, Tablets\, etc. nicht mitzubringen. Sollte ein Kind das Handy mitnehmen müssen\, bitten wir dieses NICHT im Training oder den Pausen zu benutzen. Für die Pausen dürfen gerne nicht elektronische Gesellschaftsspiele mitgebracht werden. \nVon Minis-B-Jugend. Der Eingang der Anmeldungen entscheidet über die Teilnahme. Ihr erhaltet dann eine Teilnahmebestätigung. Die Anmeldung ist verbindlich. Die Camp-Teilnehmer sind über ihre Erziehungsberechtigten kranken-\, unfall- und haftpflichtversichert. \nEine Buchung ist nur möglch\, wenn Fotoaufnahmen zugestimmt werden. Leider ist dies aus organisatorischen Gründen nicht anders möglich. \n(Änderungen vorbehalten !)
URL:https://hsg-1848.de/event/hsg-1848-handballferiencamp-osterferien/
LOCATION:Sporthalle Schelmengraben\, Dotzheim\, Lassalleplatz\, Wiesbaden\, Hessen\, 65201\, Deutschland
ATTACH;FMTTYPE=image/png:https://hsg-1848.de/wp-content/uploads/2023/05/Symbolbild-Handballcamp.png
END:VEVENT
BEGIN:VEVENT
DTSTART;TZID=Europe/Berlin:20250328T193000
DTEND;TZID=Europe/Berlin:20250328T193000
DTSTAMP:20260421T172210
CREATED:20240513T201047Z
LAST-MODIFIED:20240513T201047Z
UID:13414-1743190200-1743190200@hsg-1848.de
SUMMARY:TG Schierstein | Jahreshauptversammlung (Gesamtverein)
DESCRIPTION:Nur für Mitglieder der TG Schierstein.\n 
URL:https://hsg-1848.de/event/tg-schierstein-jahreshauptversammlung-gesamtverein-2/
LOCATION:Georg-Lang-Halle\, Schierstein\, Möwenstraße 25\, Wiesbaden\, Hessen\, 65201\, Deutschland
ATTACH;FMTTYPE=image/jpeg:https://hsg-1848.de/wp-content/uploads/2024/01/Banner-Icon-VEREIN.jpg
END:VEVENT
BEGIN:VEVENT
DTSTART;TZID=Europe/Berlin:20250313T190000
DTEND;TZID=Europe/Berlin:20250313T190000
DTSTAMP:20260421T172210
CREATED:20250130T080121Z
LAST-MODIFIED:20250130T112853Z
UID:14698-1741892400-1741892400@hsg-1848.de
SUMMARY:TG Schierstein | Jahreshauptversammlung (Abtl. Handball)
DESCRIPTION:Nur für Mitglieder der TG Schierstein.
URL:https://hsg-1848.de/event/tg-schierstein-jahreshauptversammlung-abtl-handball/
LOCATION:Georg-Lang-Halle (Dr. Schmidt Zimmer)\, Möwenstraße 25\, Wiesbaden\, 65201\, Deutschland
ATTACH;FMTTYPE=image/png:https://hsg-1848.de/wp-content/uploads/2022/06/TGS-Handball-rund.png
END:VEVENT
BEGIN:VEVENT
DTSTART;TZID=Europe/Berlin:20250305T190000
DTEND;TZID=Europe/Berlin:20250305T190000
DTSTAMP:20260421T172210
CREATED:20250211T082629Z
LAST-MODIFIED:20250211T082629Z
UID:14760-1741201200-1741201200@hsg-1848.de
SUMMARY:TuS Dotzheim | Jahreshauptversammlung (Abtl. Handball)
DESCRIPTION:Nur für Mitglieder des TuS Dotzheim.
URL:https://hsg-1848.de/event/tus-dotzheim-jahreshauptversammlung-abtl-handball/
LOCATION:Sporthalle Schelmengraben\, Dotzheim\, Lassalleplatz\, Wiesbaden\, Hessen\, 65201\, Deutschland
ATTACH;FMTTYPE=image/png:https://hsg-1848.de/wp-content/uploads/2023/02/TuS-DotzheimLogo.png
END:VEVENT
BEGIN:VEVENT
DTSTART;TZID=Europe/Berlin:20250301T201100
DTEND;TZID=Europe/Berlin:20250301T201100
DTSTAMP:20260421T172210
CREATED:20240227T075739Z
LAST-MODIFIED:20241120T140213Z
UID:11826-1740859860-1740859860@hsg-1848.de
SUMMARY:TG Schierstein | TG-Night Fever (Fastnachtsdisco)
DESCRIPTION:Karten nur an der Abendkasse !
URL:https://hsg-1848.de/event/tg-night-fever-fastnachtsdisco-2/
LOCATION:Georg-Lang-Halle\, Schierstein\, Möwenstraße 25\, Wiesbaden\, Hessen\, 65201\, Deutschland
ATTACH;FMTTYPE=image/png:https://hsg-1848.de/wp-content/uploads/2023/05/party-g4729e3423_1280.png
END:VEVENT
BEGIN:VEVENT
DTSTART;TZID=Europe/Berlin:20250215T191100
DTEND;TZID=Europe/Berlin:20250215T191100
DTSTAMP:20260421T172210
CREATED:20240227T075616Z
LAST-MODIFIED:20241120T135027Z
UID:11823-1739646660-1739646660@hsg-1848.de
SUMMARY:TG Schierstein | 2.Kappensitzung (Fastnacht)
DESCRIPTION:
URL:https://hsg-1848.de/event/2-tg-kappensitzung-fastnacht-3/
LOCATION:Georg-Lang-Halle\, Schierstein\, Möwenstraße 25\, Wiesbaden\, Hessen\, 65201\, Deutschland
ATTACH;FMTTYPE=image/png:https://hsg-1848.de/wp-content/uploads/2024/02/TG-Logo-Fastnacht.png
END:VEVENT
BEGIN:VEVENT
DTSTART;TZID=Europe/Berlin:20250208T191100
DTEND;TZID=Europe/Berlin:20250208T191100
DTSTAMP:20260421T172210
CREATED:20240227T075329Z
LAST-MODIFIED:20241120T135917Z
UID:11817-1739041860-1739041860@hsg-1848.de
SUMMARY:TG Schierstein | 1.Kappensitzung (Fastnacht)
DESCRIPTION:
URL:https://hsg-1848.de/event/1-tg-kappensitzung-fastnacht/
LOCATION:Georg-Lang-Halle\, Schierstein\, Möwenstraße 25\, Wiesbaden\, Hessen\, 65201\, Deutschland
ATTACH;FMTTYPE=image/png:https://hsg-1848.de/wp-content/uploads/2024/02/TG-Logo-Fastnacht.png
END:VEVENT
BEGIN:VEVENT
DTSTART;VALUE=DATE:20250106
DTEND;VALUE=DATE:20250111
DTSTAMP:20260421T172210
CREATED:20241112T210838Z
LAST-MODIFIED:20241112T210915Z
UID:14266-1736121600-1736553599@hsg-1848.de
SUMMARY:HSG 1848 | Handballferiencamp (Weihnachtsferien)
DESCRIPTION:Anmeldung unter:\nhttps://camp.hsg-1848.de \nZeitraum: Mo. 06.01.2025 – Fr. 10.01.2025\nOrt: Sporthalle Schelmengraben \nMontag\, 06.01.2025\n10:00 – 12:00 Uhr Gruppentraining\n12:00 – 14:00 Uhr Mittagspause\n14:00 – 16:00 Uhr Gruppentraining \nDienstag\, 07.01.2025\n10:00 – 12:00 Uhr Gruppentraining\n12:00 – 14:00 Uhr Mittagspause\n14:00 – 16:00 Uhr Gruppentraining \nMittwoch\, 08.01.2025\n10:00 – 16:00 Uhr Großes Camp-Turnier \nDonnerstag\, 09.01.2025\n10:00 – 12:00 Uhr Gruppentraining\nim Anschluss: gemeinsame Freizeit. Aktivität und Ende wird kurzfristig bekannt gegeben. (Programm wird kurzfristig entschieden\, witterungsbedingt – Änderungen vorbehalten!) \nFreitag\, 10.01.2025\n10:00 – 14:00 Uhr Handball-Siebenkampf\n(inkl. Radar – Wurfgeschwindigkeitsmessung)\nGroße Siegerehrung + Preisverleihung\n(1.-3. Preise von SPORT BONEWITZ)\n14:00 Uhr Ende \n„ALL INCLUSIVE“ \n(Training\, Essen\, Getränke\, Snacks\, Betreuung…) \nBitte einen eigenen Handball mitbringen. \nPreis: 105\,00 EURO\n(Geschwisterkinder 90 €) \nDie Anmeldung ist verbindlich ! \nWICHTIG ! \nDieses Camp ist ein „Elektronik“ freies Camp. Wir bitten die Handys\, Switch\, Tablets\, etc. nicht mitzubringen. Sollte ein Kind das Handy mitnehmen müssen\, bitten wir dieses NICHT im Training oder den Pausen zu benutzen. Für die Pausen dürfen gerne nicht elektronische Gesellschaftsspiele mitgebracht werden. \nVon Minis-B-Jugend. Der Eingang der Anmeldungen entscheidet über die Teilnahme. Ihr erhaltet dann eine Teilnahmebestätigung. Die Anmeldung ist verbindlich. Die Camp-Teilnehmer sind über ihre Erziehungsberechtigten unfall- und haftpflichtversichert. \nEine Buchung ist nur möglch\, wenn Fotoaufnahmen zugestimmt werden. Leider ist dies aus organisatorischen Gründen nicht anders möglich. \n(Änderungen vorbehalten !)
URL:https://hsg-1848.de/event/hsg-1848-handballferiencamp-herbstferien-2/
LOCATION:Sporthalle Schelmengraben\, Dotzheim\, Lassalleplatz\, Wiesbaden\, Hessen\, 65201\, Deutschland
ATTACH;FMTTYPE=image/png:https://hsg-1848.de/wp-content/uploads/2023/05/Symbolbild-Handballcamp.png
END:VEVENT
BEGIN:VEVENT
DTSTART;TZID=Europe/Berlin:20241111T191100
DTEND;TZID=Europe/Berlin:20241111T191100
DTSTAMP:20260421T172210
CREATED:20240728T195846Z
LAST-MODIFIED:20240923T124456Z
UID:13766-1731352260-1731352260@hsg-1848.de
SUMMARY:TG Schierstein | “UntHERRuns” Männer unter sich…..
DESCRIPTION:Die traditionelle Fastnachtseröffnung\, Männer unter sich……\nWeck\, Worscht\, Wein und Bier…….unn dumme Sprüch ! \nEinlass: 18:11 Uhr\nBeginn: 19:11 Uhr \nKartenbestellung unter \n(0160) 780 15 17
URL:https://hsg-1848.de/event/tg-schierstein-untherruns-maenner-unter-sich/
LOCATION:Georg-Lang-Halle\, Schierstein\, Möwenstraße 25\, Wiesbaden\, Hessen\, 65201\, Deutschland
ATTACH;FMTTYPE=image/png:https://hsg-1848.de/wp-content/uploads/2024/02/TG-Logo-Fastnacht.png
END:VEVENT
BEGIN:VEVENT
DTSTART;TZID=Europe/Berlin:20241109T190000
DTEND;TZID=Europe/Berlin:20241109T190000
DTSTAMP:20260421T172210
CREATED:20240226T080603Z
LAST-MODIFIED:20241003T201948Z
UID:11762-1731178800-1731178800@hsg-1848.de
SUMMARY:TG Schierstein | Jahresabschlussfeier (Gesamtverein)
DESCRIPTION: 
URL:https://hsg-1848.de/event/tg-schierstein-jahresabschlussfeier-gesamtverein/
LOCATION:Georg-Lang-Halle\, Schierstein\, Möwenstraße 25\, Wiesbaden\, Hessen\, 65201\, Deutschland
ATTACH;FMTTYPE=image/jpeg:https://hsg-1848.de/wp-content/uploads/2024/01/Banner-Icon-VEREIN.jpg
END:VEVENT
BEGIN:VEVENT
DTSTART;TZID=Europe/Berlin:20241102T160000
DTEND;TZID=Europe/Berlin:20241102T220000
DTSTAMP:20260421T172210
CREATED:20240226T094844Z
LAST-MODIFIED:20241022T101902Z
UID:11788-1730563200-1730584800@hsg-1848.de
SUMMARY:TG Schierstein | Halloween
DESCRIPTION:Nur für Mitglieder der TG Schierstein.\n>> Anmeldung <<
URL:https://hsg-1848.de/event/tg-schierstein-halloween/
LOCATION:Georg-Lang-Halle\, Schierstein\, Möwenstraße 25\, Wiesbaden\, Hessen\, 65201\, Deutschland
ATTACH;FMTTYPE=image/jpeg:https://hsg-1848.de/wp-content/uploads/2024/02/Symbolbild-Halloween.jpg
END:VEVENT
BEGIN:VEVENT
DTSTART;VALUE=DATE:20241021
DTEND;VALUE=DATE:20241026
DTSTAMP:20260421T172210
CREATED:20240910T104442Z
LAST-MODIFIED:20240910T110546Z
UID:13847-1729468800-1729900799@hsg-1848.de
SUMMARY:HSG 1848 | Handballferiencamp (Herbstferien)
DESCRIPTION:Anmeldung unter:\nhttps://camp.hsg-1848.de \nZeitraum: Mo. 21.10.2024 – Fr. 25.10.2024\nOrt: Sporthalle Schelmengraben \nMontag\, 21.10.2024\n10:00 – 12:00 Uhr Gruppentraining\n12:00 – 14:00 Uhr Mittagspause\n14:00 – 16:00 Uhr Gruppentraining \nDienstag\, 22.10.2024\n10:00 – 12:00 Uhr Gruppentraining\n12:00 – 14:00 Uhr Mittagspause\n14:00 – 16:00 Uhr Gruppentraining \nMittwoch\, 23.10.2024\n10:00 – 16:00 Uhr Großes Camp-Turnier \nDonnerstag\, 24.10.2024\n10:00 – 12:00 Uhr Gruppentraining\nim Anschluss: gemeinsame Freizeit. Aktivität und Ende wird kurzfristig bekannt gegeben. (Programm wird kurzfristig entschieden\, witterungsbedingt – Änderungen vorbehalten!) \nFreitag\, 25.10.2024\n10:00 – 13:30 Uhr Handball-Siebenkampf\n(inkl. Radar – Wurfgeschwindigkeitsmessung)\nGroße Siegerehrung + Preisverleihung\n(1.-3. Preise von SPORT BONEWITZ)\n14:00 Uhr Ende \n„ALL INCLUSIVE“ \n(Training\, Essen\, Getränke\, Snacks\, Betreuung…) \nBitte einen eigenen Handball mitbringen. \nPreis: 105\,00 EURO\n(Geschwisterkinder 90 €) \nDie Anmeldung ist verbindlich ! \nWICHTIG ! \nDieses Camp ist ein „Elektronik“ freies Camp. Wir bitten die Handys\, Switch\, Tablets\, etc. nicht mitzubringen. Sollte ein Kind das Handy mitnehmen müssen\, bitten wir dieses NICHT im Training oder den Pausen zu benutzen. Für die Pausen dürfen gerne nicht elektronische Gesellschaftsspiele mitgebracht werden. \nVon Minis-B-Jugend. Der Eingang der Anmeldungen entscheidet über die Teilnahme. Ihr erhaltet dann eine Teilnahmebestätigung. Die Anmeldung ist verbindlich. Die Camp-Teilnehmer sind über ihre Erziehungsberechtigten unfall- und haftpflichtversichert. \nEine Buchung ist nur möglch\, wenn Fotoaufnahmen zugestimmt werden. Leider ist dies aus organisatorischen Gründen nicht anders möglich. \n(Änderungen vorbehalten !)
URL:https://hsg-1848.de/event/hsg-1848-handballferiencamp-herbstferien/
LOCATION:Sporthalle Schelmengraben\, Dotzheim\, Lassalleplatz\, Wiesbaden\, Hessen\, 65201\, Deutschland
ATTACH;FMTTYPE=image/png:https://hsg-1848.de/wp-content/uploads/2023/05/Symbolbild-Handballcamp.png
END:VEVENT
END:VCALENDAR